BEGIN:VCALENDAR
VERSION:2.0
PRODID:-//Strategic Prevention Partnerships - ECPv6.15.20//NONSGML v1.0//EN
CALSCALE:GREGORIAN
METHOD:PUBLISH
X-ORIGINAL-URL:https://strategicprevention.org
X-WR-CALDESC:Events for Strategic Prevention Partnerships
REFRESH-INTERVAL;VALUE=DURATION:PT1H
X-Robots-Tag:noindex
X-PUBLISHED-TTL:PT1H
BEGIN:VTIMEZONE
TZID:America/New_York
BEGIN:DAYLIGHT
TZOFFSETFROM:-0500
TZOFFSETTO:-0400
TZNAME:EDT
DTSTART:20250309T070000
END:DAYLIGHT
BEGIN:STANDARD
TZOFFSETFROM:-0400
TZOFFSETTO:-0500
TZNAME:EST
DTSTART:20251102T060000
END:STANDARD
BEGIN:DAYLIGHT
TZOFFSETFROM:-0500
TZOFFSETTO:-0400
TZNAME:EDT
DTSTART:20260308T070000
END:DAYLIGHT
BEGIN:STANDARD
TZOFFSETFROM:-0400
TZOFFSETTO:-0500
TZNAME:EST
DTSTART:20261101T060000
END:STANDARD
BEGIN:DAYLIGHT
TZOFFSETFROM:-0500
TZOFFSETTO:-0400
TZNAME:EDT
DTSTART:20270314T070000
END:DAYLIGHT
BEGIN:STANDARD
TZOFFSETFROM:-0400
TZOFFSETTO:-0500
TZNAME:EST
DTSTART:20271107T060000
END:STANDARD
END:VTIMEZONE
BEGIN:VEVENT
DTSTART;TZID=America/New_York:20260422T090000
DTEND;TZID=America/New_York:20260422T153000
DTSTAMP:20260421T195612
CREATED:20260330T201017Z
LAST-MODIFIED:20260330T201112Z
UID:10002233-1776848400-1776871800@strategicprevention.org
SUMMARY:Youth Mental Health First Aid Training
DESCRIPTION:This training is specific to adults assisting or working with adolescents and/or youth and may respond to a crisis. \n  \nSignup here: https://www.eventbrite.com/e/youth-mental-health-first-aid-training-tickets-1985313073847
URL:https://strategicprevention.org/event/youth-mental-health-first-aid-training/
LOCATION:Innovate Newport\, 513 Broadway\, Newport\, RI\, 02840\, United States
CATEGORIES:Mental Health First Aid,No Wrong Door
ORGANIZER;CN="No Wrong Door RI (Bridget)":MAILTO:bmanning@riprevention.org
END:VEVENT
END:VCALENDAR