BEGIN:VCALENDAR
VERSION:2.0
PRODID:-//Strategic Prevention Partnerships - ECPv6.15.20//NONSGML v1.0//EN
CALSCALE:GREGORIAN
METHOD:PUBLISH
X-WR-CALNAME:Strategic Prevention Partnerships
X-ORIGINAL-URL:https://strategicprevention.org
X-WR-CALDESC:Events for Strategic Prevention Partnerships
REFRESH-INTERVAL;VALUE=DURATION:PT1H
X-Robots-Tag:noindex
X-PUBLISHED-TTL:PT1H
BEGIN:VTIMEZONE
TZID:America/New_York
BEGIN:DAYLIGHT
TZOFFSETFROM:-0500
TZOFFSETTO:-0400
TZNAME:EDT
DTSTART:20250309T070000
END:DAYLIGHT
BEGIN:STANDARD
TZOFFSETFROM:-0400
TZOFFSETTO:-0500
TZNAME:EST
DTSTART:20251102T060000
END:STANDARD
BEGIN:DAYLIGHT
TZOFFSETFROM:-0500
TZOFFSETTO:-0400
TZNAME:EDT
DTSTART:20260308T070000
END:DAYLIGHT
BEGIN:STANDARD
TZOFFSETFROM:-0400
TZOFFSETTO:-0500
TZNAME:EST
DTSTART:20261101T060000
END:STANDARD
BEGIN:DAYLIGHT
TZOFFSETFROM:-0500
TZOFFSETTO:-0400
TZNAME:EDT
DTSTART:20270314T070000
END:DAYLIGHT
BEGIN:STANDARD
TZOFFSETFROM:-0400
TZOFFSETTO:-0500
TZNAME:EST
DTSTART:20271107T060000
END:STANDARD
END:VTIMEZONE
BEGIN:VTIMEZONE
TZID:UTC
BEGIN:STANDARD
TZOFFSETFROM:+0000
TZOFFSETTO:+0000
TZNAME:UTC
DTSTART:20250101T000000
END:STANDARD
END:VTIMEZONE
BEGIN:VEVENT
DTSTART;TZID=America/New_York:20260421T090000
DTEND;TZID=America/New_York:20260421T170000
DTSTAMP:20260421T015725
CREATED:20260331T174851Z
LAST-MODIFIED:20260331T175414Z
UID:10002250-1776762000-1776790800@strategicprevention.org
SUMMARY:Menstrual Product Drive
DESCRIPTION:🌸 Help Us Make a Difference 🌸 \nNo young person should have to miss school or feel held back because they don’t have access to basic menstrual products. 💛 \nWe’re collecting essential items like pads\, tampons\, and hygiene supplies to support youth in our community and we need your help! \n✨ How you can support:\n• Donate menstrual products (new & unopened)\n• Share this post to spread the word\n• Encourage friends\, family\, and coworkers to get involved \nEvery contribution\, big or small\, helps empower young people with dignity\, confidence\, and care. 💕 \nLet’s come together to support our community and break the stigma—because access to these essentials matters. 💫
URL:https://strategicprevention.org/event/menstrual-product-drive/2026-04-21/
LOCATION:SPP Office\, 300 High Point Avenue\, Portsmouth\, RI\, 02871\, United States
CATEGORIES:Portsmouth Prevention Coalition
ORGANIZER;CN="Georgie Allott":MAILTO:portsmouth@riprevention.org
END:VEVENT
BEGIN:VEVENT
DTSTART;TZID=UTC:20260421T100000
DTEND;TZID=UTC:20260421T113000
DTSTAMP:20260421T015725
CREATED:20250401T222629Z
LAST-MODIFIED:20250401T235934Z
UID:10000367-1776765600-1776771000@strategicprevention.org
SUMMARY:Newport County Prevention Coalition Monthly Meeting
DESCRIPTION:Monthly meeting\, open to the public\, to discuss the events of the Newport County Prevention Coalition\, and their partners. The Newport County Prevention Coalition meets once per month on the 3rd Tuesday of the month\, from 10am-11:30am\, via zoom. \n  \nThe zoom link for the meeting is: https://us02web.zoom.us/j/82453362213?pwd=QFdjIeIrwJuhooEq64uNoeIsxV0rfY.1
URL:https://strategicprevention.org/event/ncpc-monthly-meeting/2026-04-21/
LOCATION:RI
CATEGORIES:NCPC Monthly Meeting
END:VEVENT
END:VCALENDAR